BEGIN:VCALENDAR
VERSION:2.0
PRODID:-//CERN//INDICO//EN
BEGIN:VEVENT
SUMMARY:Frisch getrennt - jetzt alleinerziehend: Rechte\, Hilfen und neue 
 Perspektiven
DTSTART:20260617T080000Z
DTEND:20260617T093000Z
DTSTAMP:20260425T141700Z
UID:indico-event-285@events.academiccloud.de
CONTACT:luisa.perdomo-lopez@tu-braunschweig.de
DESCRIPTION:Speakers: Johanna Gastreich (staatl. anerk. Sozialpädagogin B
 .A.\, systemische Beraterin (DGSF)\, Trainerin & Fachberaterin Eltern und
  Kind pme Familienservice GmbH)\n\nWenn Sie plötzlich als alleinerziehend
 e:r Mutter oder Vater dastehen\, kann das eine große Herausforderung sein
 . Dieser Fachvortrag macht Ihnen Mut und zeigt: Sie sind nicht allein! Wir
  behandeln wichtige Themen wie Umgangsrecht\, Sorgerecht\, Kindschaftsrech
 t\, Existenzsicherung und staatliche Unterstützung für Alleinerziehende.
  Im Anschluss laden wir Sie durch den Chat ein\, offene Fragen zu klären.
  So lernen Sie (weitere) Unterstützungsmöglichkeiten kennen\, die Ihnen 
 helfen\, Beruf und Privatleben besser zu vereinbaren. Holen Sie sich wertv
 olle Informationen und tauschen Sie sich aus. Die Referentinnen stehen Ihn
 en mit Expertise zur Seite\, um Ihre Fragen zu beantworten und Ihnen Persp
 ektiven aufzuzeigen.\nDieses Angebot findet in Kooperation mit der Technik
 er Krankenkasse statt (TK).\n\nhttps://events.academiccloud.de/event/285/
URL:https://events.academiccloud.de/event/285/
END:VEVENT
END:VCALENDAR
