BEGIN:VCALENDAR
VERSION:2.0
PRODID:-//CERN//INDICO//EN
BEGIN:VEVENT
SUMMARY:Führungen zum Arbeitskreis Hochschulen 2026
DTSTART:20260624T080000Z
DTEND:20260624T093000Z
DTSTAMP:20260424T133000Z
UID:indico-event-284@events.academiccloud.de
CONTACT:arbeitssicherheit@jade-hs.de\;0441-7708-3468\;04421-985-2173
DESCRIPTION:\n\nhttps://events.academiccloud.de/event/284/
LOCATION:Jade Hochschule\, Campus Elsfleth
URL:https://events.academiccloud.de/event/284/
END:VEVENT
END:VCALENDAR
