BEGIN:VCALENDAR
VERSION:2.0
PRODID:-//CERN//INDICO//EN
BEGIN:VEVENT
SUMMARY:Kinder essen anders?
DTSTART:20260818T080000Z
DTEND:20260818T093000Z
DTSTAMP:20260425T141700Z
UID:indico-event-283@events.academiccloud.de
CONTACT:neele.henkenberens@uol.de
DESCRIPTION:Speakers: Katharina Schäfer (Verbraucherzentrale Niedersachse
 n)\n\nDas Angebot von Lebensmitteln\, die scheinbar besonders für Kinder 
 produziert und beworben werden\, wächst. Das Marketing ist ausgefuchst un
 d erreicht sowohl Kinder als auch Eltern über unterschiedliche mediale Ka
 näle. Zudem kommen Ernährungstrends und widersprüchliche Empfehlungen z
 u Ernährungsfragen hinzu und hinterlassen bei Erziehungsberechtigten Unsi
 cherheiten und offene Fragen. Dieser Vortrag gibt einen Einblick in die ak
 tuelle Ernährungssituation von Kindern und soll Sie beim Entlarven von Zu
 ckerbomben und dem Bewerten des vielfältigen Lebensmittelangebots unterst
 ützen. Außerdem werden Alternativen und praktische Anwendungen für eine
  ausgewogene Ernährung mit wissenschaftlich fundierten Ernährungsempfehl
 ungen gezeigt. Essen soll natürlich die Gesundheit fördern\, darf aber a
 uch Spaß und Genuss bringen – vor allem in der Familie! Themen •   
  Kinderernährung – Wunsch und Wirklichkeit •    Zucker •    Ki
 nderlebensmittel •    Brotdosen im Vergleich •    Tipps und Ideen\
 n\nhttps://events.academiccloud.de/event/283/
URL:https://events.academiccloud.de/event/283/
END:VEVENT
END:VCALENDAR
